BEGIN:VCALENDAR
VERSION:2.0
PRODID:-//eventon.com NONSGML v1.0//EN
CALSCALE:GREGORIAN
METHOD:PUBLISH
BEGIN:VEVENT
UID:69e8a1a1be445
DTSTAMP:20260422T122329
DTSTART:20260711T203000Z
DTEND:20260711T235900Z
TZID:Europe/Berlin
LOCATION:
SUMMARY:Musikfest
DESCRIPTION:\nhttps://schwarzwald-quintett.de/events/musikfest/
URL:https://schwarzwald-quintett.de/events/musikfest/
END:VEVENT
END:VCALENDAR